BEGIN:VCALENDAR
VERSION:2.0
PRODID:-//IDBFA Family Association - ECPv6.15.16//NONSGML v1.0//EN
CALSCALE:GREGORIAN
METHOD:PUBLISH
X-WR-CALNAME:IDBFA Family Association
X-ORIGINAL-URL:https://iadbfamilyassociation.org/en/
X-WR-CALDESC:Events for IDBFA Family Association
REFRESH-INTERVAL;VALUE=DURATION:PT1H
X-Robots-Tag:noindex
X-PUBLISHED-TTL:PT1H
BEGIN:VTIMEZONE
TZID:America/New_York
BEGIN:DAYLIGHT
TZOFFSETFROM:-0500
TZOFFSETTO:-0400
TZNAME:EDT
DTSTART:20210314T070000
END:DAYLIGHT
BEGIN:STANDARD
TZOFFSETFROM:-0400
TZOFFSETTO:-0500
TZNAME:EST
DTSTART:20211107T060000
END:STANDARD
BEGIN:DAYLIGHT
TZOFFSETFROM:-0500
TZOFFSETTO:-0400
TZNAME:EDT
DTSTART:20220313T070000
END:DAYLIGHT
BEGIN:STANDARD
TZOFFSETFROM:-0400
TZOFFSETTO:-0500
TZNAME:EST
DTSTART:20221106T060000
END:STANDARD
BEGIN:DAYLIGHT
TZOFFSETFROM:-0500
TZOFFSETTO:-0400
TZNAME:EDT
DTSTART:20230312T070000
END:DAYLIGHT
BEGIN:STANDARD
TZOFFSETFROM:-0400
TZOFFSETTO:-0500
TZNAME:EST
DTSTART:20231105T060000
END:STANDARD
END:VTIMEZONE
BEGIN:VEVENT
DTSTART;TZID=America/New_York:20221201T183000
DTEND;TZID=America/New_York:20221201T203000
DTSTAMP:20260421T025315
CREATED:20221129T150609Z
LAST-MODIFIED:20221129T150700Z
UID:5138-1669919400-1669926600@iadbfamilyassociation.org
SUMMARY:TASTING AND PAIRING MEZCAL
DESCRIPTION:Join us and discover this ancestral Mexican spirit\, Mezcal\, presented by the Mezcal Institute. \nRegister here!
URL:https://iadbfamilyassociation.org/en/event/tasting-and-pairing-mezcal/
LOCATION:IDB Family Association\, 6901 Rockledge Dr Suit 110\, Bethesda\, MD 20817 IDB Family Association\, Bethesda\, MD\, 20817\, United States
CATEGORIES:Sociocultural
ATTACH;FMTTYPE=image/png:https://iadbfamilyassociation.org/wp-content/uploads/2022/11/Mezcal-ESP.png
END:VEVENT
END:VCALENDAR